BEGIN:VCALENDAR
VERSION:2.0
PRODID:-//Paroisse Saint-Michel - ECPv6.13.1//NONSGML v1.0//EN
CALSCALE:GREGORIAN
METHOD:PUBLISH
X-WR-CALNAME:Paroisse Saint-Michel
X-ORIGINAL-URL:https://www.paroissesaintmichel.fr
X-WR-CALDESC:Évènements pour Paroisse Saint-Michel
REFRESH-INTERVAL;VALUE=DURATION:PT1H
X-Robots-Tag:noindex
X-PUBLISHED-TTL:PT1H
BEGIN:VTIMEZONE
TZID:Europe/Paris
BEGIN:DAYLIGHT
TZOFFSETFROM:+0100
TZOFFSETTO:+0200
TZNAME:CEST
DTSTART:20250330T010000
END:DAYLIGHT
BEGIN:STANDARD
TZOFFSETFROM:+0200
TZOFFSETTO:+0100
TZNAME:CET
DTSTART:20251026T010000
END:STANDARD
END:VTIMEZONE
BEGIN:VEVENT
DTSTART;TZID=Europe/Paris:20251001T000000
DTEND;TZID=Europe/Paris:20251001T235959
DTSTAMP:20260420T113359
CREATED:20250701T132629Z
LAST-MODIFIED:20250701T132630Z
UID:12136-1759276800-1759363199@www.paroissesaintmichel.fr
SUMMARY:CATE CE1 ET CE2
DESCRIPTION:
URL:https://www.paroissesaintmichel.fr/agenda/cate-ce1-et-ce2-2/
END:VEVENT
BEGIN:VEVENT
DTSTART;TZID=Europe/Paris:20251001T200000
DTEND;TZID=Europe/Paris:20251001T233000
DTSTAMP:20260420T113359
CREATED:20250912T130332Z
LAST-MODIFIED:20250912T133059Z
UID:12221-1759348800-1759361400@www.paroissesaintmichel.fr
SUMMARY:SOIRÉE FRATELLI
DESCRIPTION:
URL:https://www.paroissesaintmichel.fr/agenda/soiree-fratelli-15/
END:VEVENT
BEGIN:VEVENT
DTSTART;TZID=Europe/Paris:20251003T000000
DTEND;TZID=Europe/Paris:20251005T235959
DTSTAMP:20260420T113359
CREATED:20250701T141545Z
LAST-MODIFIED:20250701T141547Z
UID:12174-1759449600-1759708799@www.paroissesaintmichel.fr
SUMMARY:Pèlerinage des couples à Rome
DESCRIPTION:
URL:https://www.paroissesaintmichel.fr/agenda/pelerinage-des-couples-a-rome/
END:VEVENT
BEGIN:VEVENT
DTSTART;TZID=Europe/Paris:20251008T000000
DTEND;TZID=Europe/Paris:20251008T235959
DTSTAMP:20260420T113359
CREATED:20250701T132718Z
LAST-MODIFIED:20250701T132719Z
UID:12138-1759881600-1759967999@www.paroissesaintmichel.fr
SUMMARY:CATE CM1 ET CM2
DESCRIPTION:
URL:https://www.paroissesaintmichel.fr/agenda/cate-cm1-et-cm2-2/
END:VEVENT
BEGIN:VEVENT
DTSTART;TZID=Europe/Paris:20251009T000000
DTEND;TZID=Europe/Paris:20251009T235959
DTSTAMP:20260420T113359
CREATED:20250827T092642Z
LAST-MODIFIED:20250827T092645Z
UID:12206-1759968000-1760054399@www.paroissesaintmichel.fr
SUMMARY:Pèlerinage à Chartres
DESCRIPTION:
URL:https://www.paroissesaintmichel.fr/agenda/pelerinage-a-chartres/
END:VEVENT
BEGIN:VEVENT
DTSTART;TZID=Europe/Paris:20251010T190000
DTEND;TZID=Europe/Paris:20251010T203000
DTSTAMP:20260420T113359
CREATED:20250701T133459Z
LAST-MODIFIED:20250701T133501Z
UID:12148-1760122800-1760128200@www.paroissesaintmichel.fr
SUMMARY:CATE-CINE-COLLEGE 6ème et 5ème
DESCRIPTION:
URL:https://www.paroissesaintmichel.fr/agenda/cate-cine-college-6eme-et-5eme-2/
END:VEVENT
BEGIN:VEVENT
DTSTART;TZID=Europe/Paris:20251010T200000
DTEND;TZID=Europe/Paris:20251010T210000
DTSTAMP:20260420T113359
CREATED:20250929T084217Z
LAST-MODIFIED:20250929T084413Z
UID:12266-1760126400-1760130000@www.paroissesaintmichel.fr
SUMMARY:SOIREE DE LOUANGE
DESCRIPTION:
URL:https://www.paroissesaintmichel.fr/agenda/soiree-de-louange/
END:VEVENT
BEGIN:VEVENT
DTSTART;TZID=Europe/Paris:20251011T103000
DTEND;TZID=Europe/Paris:20251011T114500
DTSTAMP:20260420T113359
CREATED:20250701T133736Z
LAST-MODIFIED:20250701T133738Z
UID:12152-1760178600-1760183100@www.paroissesaintmichel.fr
SUMMARY:Eveil à la Foi
DESCRIPTION:
URL:https://www.paroissesaintmichel.fr/agenda/eveil-a-la-foi-9/
END:VEVENT
BEGIN:VEVENT
DTSTART;TZID=Europe/Paris:20251012T091500
DTEND;TZID=Europe/Paris:20251012T103000
DTSTAMP:20260420T113359
CREATED:20250701T141931Z
LAST-MODIFIED:20250701T141933Z
UID:12178-1760260500-1760265000@www.paroissesaintmichel.fr
SUMMARY:Prépa 1ère Communion
DESCRIPTION:
URL:https://www.paroissesaintmichel.fr/agenda/prepa-1ere-communion/
END:VEVENT
BEGIN:VEVENT
DTSTART;TZID=Europe/Paris:20251015T000000
DTEND;TZID=Europe/Paris:20251015T235959
DTSTAMP:20260420T113359
CREATED:20250701T132825Z
LAST-MODIFIED:20250701T132826Z
UID:12140-1760486400-1760572799@www.paroissesaintmichel.fr
SUMMARY:CATE CE1 ET CE2
DESCRIPTION:
URL:https://www.paroissesaintmichel.fr/agenda/cate-ce1-et-ce2-3/
END:VEVENT
BEGIN:VEVENT
DTSTART;TZID=Europe/Paris:20251015T200000
DTEND;TZID=Europe/Paris:20251015T230000
DTSTAMP:20260420T113359
CREATED:20250912T130521Z
LAST-MODIFIED:20250912T132951Z
UID:12223-1760558400-1760569200@www.paroissesaintmichel.fr
SUMMARY:SOIRÉE FRATELLI
DESCRIPTION:
URL:https://www.paroissesaintmichel.fr/agenda/soiree-fratelli-16/
END:VEVENT
BEGIN:VEVENT
DTSTART;TZID=Europe/Paris:20251016T203000
DTEND;TZID=Europe/Paris:20251016T223000
DTSTAMP:20260420T113359
CREATED:20250701T140554Z
LAST-MODIFIED:20250701T140556Z
UID:12158-1760646600-1760653800@www.paroissesaintmichel.fr
SUMMARY:Parcours Biblique Mess'AJE (pr les inscrits)
DESCRIPTION:
URL:https://www.paroissesaintmichel.fr/agenda/parcours-biblique-messaje-pr-les-inscrits/
END:VEVENT
BEGIN:VEVENT
DTSTART;TZID=Europe/Paris:20251016T203000
DTEND;TZID=Europe/Paris:20251016T223000
DTSTAMP:20260420T113359
CREATED:20250701T141127Z
LAST-MODIFIED:20250701T141128Z
UID:12168-1760646600-1760653800@www.paroissesaintmichel.fr
SUMMARY:Parcours ZACHEE (pour les inscrits)
DESCRIPTION:
URL:https://www.paroissesaintmichel.fr/agenda/parcours-zachee-pour-les-inscrits-5/
END:VEVENT
END:VCALENDAR